BEGIN:VCALENDAR
VERSION:2.0
PRODID:-//Housing Assistance Council - ECPv6.15.20//NONSGML v1.0//EN
CALSCALE:GREGORIAN
METHOD:PUBLISH
X-WR-CALNAME:Housing Assistance Council
X-ORIGINAL-URL:https://ruralhome.org
X-WR-CALDESC:Events for Housing Assistance Council
REFRESH-INTERVAL;VALUE=DURATION:PT1H
X-Robots-Tag:noindex
X-PUBLISHED-TTL:PT1H
BEGIN:VTIMEZONE
TZID:UTC
BEGIN:STANDARD
TZOFFSETFROM:+0000
TZOFFSETTO:+0000
TZNAME:UTC
DTSTART:20130101T000000
END:STANDARD
END:VTIMEZONE
BEGIN:VEVENT
DTSTART;TZID=UTC:20140422T080000
DTEND;TZID=UTC:20140423T170000
DTSTAMP:20260424T084446
CREATED:20201020T150633Z
LAST-MODIFIED:20220425T194923Z
UID:10000189-1398153600-1398272400@ruralhome.org
SUMMARY:Housing Seniors and Veterans in Rural America: Preservation\, Development and Services
DESCRIPTION:Register Now!\nHousing Seniors and Veterans in Rural America: Preservation\, Development and Service\nStart Date: April 22\, 2014 End Date: April 23\, 2014Register: www.regonline.com/seniorVeteransPhoenix \nJoin the Housing Assistance Council on April 22-23 in Phoenix\, Arizona for Housing Seniors and Veterans in Rural America: Preservation\, Development and Services. Made possible with generous support from The Atlantic Philanthropies and The Home Depot Foundation\, this symposium will provide training and information on housing for rural seniors and veterans. These two vulnerable and often overlapping populations face many challenges. Homeowners may need help with repairs or counseling. Renters may need affordable units\, face loss of their apartments or want to become owners. The homeless or near homeless need help with basic shelter and survival. Resources and models exist to help in all these situations and will be showcased in detail at this conference.\n \nHAC’s approach to serving seniors and veterans is grounded in the fact that those two groups are over represented in rural America. One in five U.S. residents is rural\, but 25 percent of all rural homes are occupied by the elderly\, and 40 percent of veterans enrolled in the VA health system are rural. This is set against the backdrop of a rapidly aging population of baby boomers. Eighty percent of rural seniors are homeowners\, but rental units are also very much needed. Veterans of the United States military put their lives in danger to serve the nation\, but then may face homelessness\, live in substandard homes or have other housing needs.\n \nThis conference will feature program overviews\, funding resources\, case studies and models presented by federal and state administrators\, nonprofit developers\, policy experts and others. Don’t miss this valuable opportunity to learn and share information on ways to meet the growing needs of these rural populations.\n \nCO-SPONSORS\nLeadingAge\, Chicanos por la Causa\n \nREGISTRATION INFORMATION: www.regonline.com/seniorVeteransPhoenix.\nHOTEL & ROOM BLOCK\nHAC has reserved a block of rooms at the government per diem rate of $106.00 per night at the Crowne Plaza Phoenix Airport – The Wren for this event. Please call the hotel at (602) 273-7778 and ask for the Housing Assistance Council (HAC) Room Block to take advantage of this rate. This room block expires on Saturday\, March 22\, 2014 but space is limited\, so make your reservations early. \n \nThis symposium is made possible through the generous support of The Home Depot Foundation.  Additional information about HAC’s Affordable Housing for Rural Veterans program can be found at www.ruralhome.org.
URL:https://ruralhome.org/event/housing-seniors-and-veterans-in-rural-america-preservation-development-and-services/
LOCATION:Crowne Plaza Phoenix Airport – The Wren\, 4300 East Washington St\, Phoenix\, AZ\, 85034\, United States
ORGANIZER;CN="Housing Assistance Council":MAILTO:registration@ruralhome.org
END:VEVENT
END:VCALENDAR