BEGIN:VCALENDAR
VERSION:2.0
PRODID:-//Housing Assistance Council - ECPv6.15.20//NONSGML v1.0//EN
CALSCALE:GREGORIAN
METHOD:PUBLISH
X-ORIGINAL-URL:https://ruralhome.org
X-WR-CALDESC:Events for Housing Assistance Council
REFRESH-INTERVAL;VALUE=DURATION:PT1H
X-Robots-Tag:noindex
X-PUBLISHED-TTL:PT1H
BEGIN:VTIMEZONE
TZID:America/New_York
BEGIN:DAYLIGHT
TZOFFSETFROM:-0500
TZOFFSETTO:-0400
TZNAME:EDT
DTSTART:20240310T070000
END:DAYLIGHT
BEGIN:STANDARD
TZOFFSETFROM:-0400
TZOFFSETTO:-0500
TZNAME:EST
DTSTART:20241103T060000
END:STANDARD
BEGIN:DAYLIGHT
TZOFFSETFROM:-0500
TZOFFSETTO:-0400
TZNAME:EDT
DTSTART:20250309T070000
END:DAYLIGHT
BEGIN:STANDARD
TZOFFSETFROM:-0400
TZOFFSETTO:-0500
TZNAME:EST
DTSTART:20251102T060000
END:STANDARD
BEGIN:DAYLIGHT
TZOFFSETFROM:-0500
TZOFFSETTO:-0400
TZNAME:EDT
DTSTART:20260308T070000
END:DAYLIGHT
BEGIN:STANDARD
TZOFFSETFROM:-0400
TZOFFSETTO:-0500
TZNAME:EST
DTSTART:20261101T060000
END:STANDARD
END:VTIMEZONE
BEGIN:VEVENT
DTSTART;VALUE=DATE:20251104
DTEND;VALUE=DATE:20251108
DTSTAMP:20260423T142826
CREATED:20240819T181156Z
LAST-MODIFIED:20251202T124443Z
UID:10000398-1762214400-1762559999@ruralhome.org
SUMMARY:2025 National Rural Housing Conference
DESCRIPTION:Join Us for the 2025 National Rural Housing Conference – November 4-7\, Washington\, DC\n\nRegister Now\nThe 2025 National Rural Housing Conference takes place November 4–7 in Washington\, DC\, bringing together rural housing leaders\, policymakers\, and practitioners from across the country. \nConference activities will begin Tuesday\, November 4 with morning association meetings and interest group gatherings\, followed by an evening welcome reception to officially kick things off. \nThroughout the week\, we invite you to take part in high-impact plenary sessions\, 40+ interactive workshops\, and networking events that connect you with over 700 rural leaders\, practitioners\, and policymakers. You’ll leave energized\, equipped\, and ready to turn ideas into action. \nMark your calendar for November 5-7\, 2025\, and don’t forget the pre-conference activities on November 4. Stay tuned for more details as we continue to build an agenda that will inspire and equip you to make a difference in rural America. \nRegister Now\nDon’t miss any updates! Click the button below to be notified of important announcements and conference details as they become available. \n\n\n\n\nSound\nSound\n\nKeep me Informed\n\n\nSponsor the Conference\n\n 
URL:https://ruralhome.org/event/2025-national-rural-housing-conference/
CATEGORIES:National Rural Housing Conference
ATTACH;FMTTYPE=image/png:https://ruralhome.org/wp-content/uploads/2025/07/conference-hac-site-banner-2025c-scaled.png
ORGANIZER;CN="Housing Assistance Council":MAILTO:registration@ruralhome.org
END:VEVENT
END:VCALENDAR