BEGIN:VCALENDAR
VERSION:2.0
PRODID:-//Housing Assistance Council - ECPv6.15.20//NONSGML v1.0//EN
CALSCALE:GREGORIAN
METHOD:PUBLISH
X-ORIGINAL-URL:http://ruralhome.org
X-WR-CALDESC:Events for Housing Assistance Council
REFRESH-INTERVAL;VALUE=DURATION:PT1H
X-Robots-Tag:noindex
X-PUBLISHED-TTL:PT1H
BEGIN:VTIMEZONE
TZID:UTC
BEGIN:STANDARD
TZOFFSETFROM:+0000
TZOFFSETTO:+0000
TZNAME:UTC
DTSTART:20150101T000000
END:STANDARD
END:VTIMEZONE
BEGIN:VEVENT
DTSTART;TZID=UTC:20160811T083000
DTEND;TZID=UTC:20160811T110000
DTSTAMP:20260422T064524
CREATED:20201020T150653Z
LAST-MODIFIED:20201020T150653Z
UID:10000200-1470904200-1470913200@ruralhome.org
SUMMARY:Non-HAC: The State of Rural Housing in Virginia: A Rural Network Forum  in the Middle Peninsula of Virginia
DESCRIPTION:Rural Virginia is changing and with that\, our rural affordable housing needs are also in transition. Housing Virginia has been assessing demographic and housing trends and has surveyed local rural providers around the state to hear their most pressing needs and their perceptions of the changes happening in their communities. \nAt this forum\, Housing Virginia will present preliminary findings and facilitate a discussion to develop an action plan that will address rural housing/service providers’ gaps and needs as well as recommend policy alternatives. This plan will be released at the Virginia Governor’s Housing Conference in Roanoke this November. \nRegistration is FREE!  \nRegister Now: https://tinyurl.com/HV-MiddlePen
URL:http://ruralhome.org/event/non-hac-the-state-of-rural-housing-in-virginia-a-rural-network-forum-in-the-middle-peninsula-of-virginia/
LOCATION:Chesapeake Bay & Rivers Association of REALTORS\, 10880 General Puller Highway\, Suite E\, Hartfield\, VA\, 23071\, United States
END:VEVENT
END:VCALENDAR