BEGIN:VCALENDAR
VERSION:2.0
PRODID:-//Housing Assistance Council - ECPv6.15.20//NONSGML v1.0//EN
CALSCALE:GREGORIAN
METHOD:PUBLISH
X-WR-CALNAME:Housing Assistance Council
X-ORIGINAL-URL:http://ruralhome.org
X-WR-CALDESC:Events for Housing Assistance Council
REFRESH-INTERVAL;VALUE=DURATION:PT1H
X-Robots-Tag:noindex
X-PUBLISHED-TTL:PT1H
BEGIN:VTIMEZONE
TZID:UTC
BEGIN:STANDARD
TZOFFSETFROM:+0000
TZOFFSETTO:+0000
TZNAME:UTC
DTSTART:20160101T000000
END:STANDARD
END:VTIMEZONE
BEGIN:VEVENT
DTSTART;TZID=UTC:20170328T080000
DTEND;TZID=UTC:20170330T160000
DTSTAMP:20260421T051117
CREATED:20201020T150653Z
LAST-MODIFIED:20201020T150653Z
UID:10000201-1490688000-1490889600@ruralhome.org
SUMMARY:Non-HAC: 2017 NCRC Annual Conference - Creating a Just Economy
DESCRIPTION:NCRC’s Annual Conference is one of the nation’s largest gatherings of community nonprofits\, policymakers\, government officials\, small businesses\, banks\, and academia\, all coming together to create a just economy.
URL:http://ruralhome.org/event/non-hac-2017-ncrc-annual-conference-creating-a-just-economy/
LOCATION:Capitol Hilton\, 1001 16th Street NW\,\, Washington\, DC\, 20036.\, United States
END:VEVENT
BEGIN:VEVENT
DTSTART;TZID=UTC:20170328T080000
DTEND;TZID=UTC:20170330T160000
DTSTAMP:20260421T051117
CREATED:20201020T150652Z
LAST-MODIFIED:20201020T150652Z
UID:10000309-1490688000-1490889600@ruralhome.org
SUMMARY:Non-HAC: 2017 NCRC Annual Conference - Creating a Just Economy
DESCRIPTION:NCRC’s Annual Conference is one of the nation’s largest gatherings of community nonprofits\, policymakers\, government officials\, small businesses\, banks\, and academia\, all coming together to create a just economy.
URL:http://ruralhome.org/event/non-hac-2017-ncrc-annual-conference-creating-a-just-economy-2/
LOCATION:Capitol Hilton\, 1001 16th Street NW\,\, Washington\, DC\, 20036.\, United States
END:VEVENT
END:VCALENDAR