BEGIN:VCALENDAR
VERSION:2.0
PRODID:-//Housing Assistance Council - ECPv6.15.20//NONSGML v1.0//EN
CALSCALE:GREGORIAN
METHOD:PUBLISH
X-WR-CALNAME:Housing Assistance Council
X-ORIGINAL-URL:http://ruralhome.org
X-WR-CALDESC:Events for Housing Assistance Council
REFRESH-INTERVAL;VALUE=DURATION:PT1H
X-Robots-Tag:noindex
X-PUBLISHED-TTL:PT1H
BEGIN:VTIMEZONE
TZID:UTC
BEGIN:STANDARD
TZOFFSETFROM:+0000
TZOFFSETTO:+0000
TZNAME:UTC
DTSTART:20130101T000000
END:STANDARD
END:VTIMEZONE
BEGIN:VEVENT
DTSTART;TZID=UTC:20160603T130000
DTEND;TZID=UTC:20160603T143000
DTSTAMP:20260419T080817
CREATED:20201020T150654Z
LAST-MODIFIED:20201020T150654Z
UID:10000207-1464958800-1464964200@ruralhome.org
SUMMARY:Non-HAC: Permanent Supportive Housing: A Comprehensive Approach to Tribal Housing
DESCRIPTION:WEBINAR I: June 3\, 2016\, 1:00-2:30 pm Eastern TimePermanent Supportive Housing: A Comprehensive Approach to Tribal Housing \n\nMarilyn Zimmerman / Office of Juvenile Justice and Delinquency Prevention\nDede Devine / Native American Connections\nLiz Drapa / Corporation for Supportive Housing\n\nJoin the webinar at https://cc.readytalk.com/r/z02k9cf59sr5&eom.
URL:http://ruralhome.org/event/non-hac-permanent-supportive-housing-a-comprehensive-approach-to-tribal-housing/
LOCATION:Online Meeting\, United States
END:VEVENT
BEGIN:VEVENT
DTSTART;TZID=UTC:20141001T130000
DTEND;TZID=UTC:20141001T140000
DTSTAMP:20260419T080817
CREATED:20201020T150718Z
LAST-MODIFIED:20201020T150718Z
UID:10000239-1412168400-1412172000@ruralhome.org
SUMMARY:Non-HAC: Promise Zone Initiative Stakeholder Webcast (URBAN)
DESCRIPTION:RSVP Here\nWe would like to invite you to the Promise Zone Initiative Stakeholder Webcast on October 1. This webcast will provide a general overview in addition to the tailored urban presentation.   
URL:http://ruralhome.org/event/non-hac-promise-zone-initiative-stakeholder-webcast-urban/
LOCATION:External Webinar\, United States
END:VEVENT
BEGIN:VEVENT
DTSTART;TZID=UTC:20140929T150000
DTEND;TZID=UTC:20140929T160000
DTSTAMP:20260419T080817
CREATED:20201020T150717Z
LAST-MODIFIED:20201020T150717Z
UID:10000349-1412002800-1412006400@ruralhome.org
SUMMARY:Non-HAC: Promise Zone Initiative Stakeholder Webcast (RURAL)
DESCRIPTION:RSVP Here\nWe would like to invite you to the Promise Zone Initiative Stakeholder Webcasts on September 29. This webcast will provide a general overview in addition to the tailored rural presentation.   
URL:http://ruralhome.org/event/non-hac-promise-zone-initiative-stakeholder-webcast-rural/
LOCATION:External Webinar\, United States
END:VEVENT
BEGIN:VEVENT
DTSTART;TZID=UTC:20140929T130000
DTEND;TZID=UTC:20140929T140000
DTSTAMP:20260419T080817
CREATED:20201020T150718Z
LAST-MODIFIED:20201020T150718Z
UID:10000238-1411995600-1411999200@ruralhome.org
SUMMARY:Non-HAC: Promise Zone Initiative Stakeholder Webcast (TRIBAL)
DESCRIPTION:RSVP Here\nWe would like to invite you to the Promise Zone Initiative Stakeholder Webcasts on September 29 for Tribal applicants.  This webcast will provide a general overview in addition to the tailored presentation.   
URL:http://ruralhome.org/event/non-hac-promise-zone-initiative-stakeholder-webcast-tribal/
LOCATION:External Webinar\, United States
END:VEVENT
END:VCALENDAR