BEGIN:VCALENDAR
VERSION:2.0
PRODID:-//Housing Assistance Council - ECPv6.15.20//NONSGML v1.0//EN
CALSCALE:GREGORIAN
METHOD:PUBLISH
X-ORIGINAL-URL:http://ruralhome.org
X-WR-CALDESC:Events for Housing Assistance Council
REFRESH-INTERVAL;VALUE=DURATION:PT1H
X-Robots-Tag:noindex
X-PUBLISHED-TTL:PT1H
BEGIN:VTIMEZONE
TZID:America/New_York
BEGIN:DAYLIGHT
TZOFFSETFROM:-0500
TZOFFSETTO:-0400
TZNAME:EDT
DTSTART:20250309T070000
END:DAYLIGHT
BEGIN:STANDARD
TZOFFSETFROM:-0400
TZOFFSETTO:-0500
TZNAME:EST
DTSTART:20251102T060000
END:STANDARD
BEGIN:DAYLIGHT
TZOFFSETFROM:-0500
TZOFFSETTO:-0400
TZNAME:EDT
DTSTART:20260308T070000
END:DAYLIGHT
BEGIN:STANDARD
TZOFFSETFROM:-0400
TZOFFSETTO:-0500
TZNAME:EST
DTSTART:20261101T060000
END:STANDARD
BEGIN:DAYLIGHT
TZOFFSETFROM:-0500
TZOFFSETTO:-0400
TZNAME:EDT
DTSTART:20270314T070000
END:DAYLIGHT
BEGIN:STANDARD
TZOFFSETFROM:-0400
TZOFFSETTO:-0500
TZNAME:EST
DTSTART:20271107T060000
END:STANDARD
END:VTIMEZONE
BEGIN:VEVENT
DTSTART;TZID=America/New_York:20260107T140000
DTEND;TZID=America/New_York:20260107T150000
DTSTAMP:20260422T050737
CREATED:20251209T151724Z
LAST-MODIFIED:20260403T170115Z
UID:10000404-1767794400-1767798000@ruralhome.org
SUMMARY:Grant Funding Opportunity: Request for Proposals - Overview HAC 2026 Affordable Housing for Rural Veterans
DESCRIPTION:Need funding assistance to support or help meet the affordable housing needs of veterans in rural places?  If so\, join the Housing Assistance Council as we host an open forum to discuss HAC’s current RFP for its Affordable Housing for Rural Veterans (AHRV) Initiative.  Discussion will include a high-level overview of the RFP and a walk through of frequently asked questions along with an opportunity to pose questions directly to program staff. \nApplications are due on January 19\, 2026\, so get organized and come prepared with your probing questions in hand!  Funding is limited and the application process is extremely competitive. HAC recommends attending this session prior to submitting a formal application. \nMaterials\nPower Point Presentation \n\nDownload the Application (Word)| Download the Application Guidelines (PDF) \nSpeakers\n\nShonterria Charleston\, Director\, Training and Technical Assistance\nAnselmo Telles\, Senior Housing Specialist\n\nSponsored by\nThis initiative is funded through generous support from The Home Depot Foundation.
URL:http://ruralhome.org/event/grant-funding-opportunity-request-for-proposals-overview-hac-2026-affordable-housing-for-rural-veterans/
CATEGORIES:Online Training
ATTACH;FMTTYPE=image/jpeg:http://ruralhome.org/wp-content/uploads/2023/03/Event-Featured-Image-policy.jpg
ORGANIZER;CN="Housing Assistance Council":MAILTO:registration@ruralhome.org
END:VEVENT
END:VCALENDAR