BEGIN:VCALENDAR
VERSION:2.0
PRODID:-//Housing Assistance Council - ECPv6.15.20//NONSGML v1.0//EN
CALSCALE:GREGORIAN
METHOD:PUBLISH
X-WR-CALNAME:Housing Assistance Council
X-ORIGINAL-URL:http://ruralhome.org
X-WR-CALDESC:Events for Housing Assistance Council
REFRESH-INTERVAL;VALUE=DURATION:PT1H
X-Robots-Tag:noindex
X-PUBLISHED-TTL:PT1H
BEGIN:VTIMEZONE
TZID:America/New_York
BEGIN:DAYLIGHT
TZOFFSETFROM:-0500
TZOFFSETTO:-0400
TZNAME:EDT
DTSTART:20240310T070000
END:DAYLIGHT
BEGIN:STANDARD
TZOFFSETFROM:-0400
TZOFFSETTO:-0500
TZNAME:EST
DTSTART:20241103T060000
END:STANDARD
BEGIN:DAYLIGHT
TZOFFSETFROM:-0500
TZOFFSETTO:-0400
TZNAME:EDT
DTSTART:20250309T070000
END:DAYLIGHT
BEGIN:STANDARD
TZOFFSETFROM:-0400
TZOFFSETTO:-0500
TZNAME:EST
DTSTART:20251102T060000
END:STANDARD
BEGIN:DAYLIGHT
TZOFFSETFROM:-0500
TZOFFSETTO:-0400
TZNAME:EDT
DTSTART:20260308T070000
END:DAYLIGHT
BEGIN:STANDARD
TZOFFSETFROM:-0400
TZOFFSETTO:-0500
TZNAME:EST
DTSTART:20261101T060000
END:STANDARD
END:VTIMEZONE
BEGIN:VEVENT
DTSTART;TZID=America/New_York:20250507T150000
DTEND;TZID=America/New_York:20250507T160000
DTSTAMP:20260424T114032
CREATED:20250425T144843Z
LAST-MODIFIED:20250514T172545Z
UID:10000401-1746630000-1746633600@ruralhome.org
SUMMARY:NMTCs for Affordable Homeownership - May 7
DESCRIPTION:Learn about the New Markets Tax Credits (NMTC) program and using NMTCs for Affordable Homeownership Projects.\nPlease join us to learn more about NMTCs for homeownership and HAC’s planned 2026 NMTCs program.\nWe are hosting an informational webinar where you can learn all you need to know about NMTC eligibility\, the benefit to your organization and your clients\, compliance\, and other requirements. Register below to join us on May 7th. \nCan’t join us on May 7th? We are hosting the same webinar on May 13th – Register Here. \nWebinar Materials\nPresentation | One-Pager | Recording
URL:http://ruralhome.org/event/nmtcs-for-affordable-homeownership-may-7/
CATEGORIES:Online Training
ATTACH;FMTTYPE=image/jpeg:http://ruralhome.org/wp-content/uploads/2025/04/NMTC-header.jpg
ORGANIZER;CN="Housing Assistance Council":MAILTO:registration@ruralhome.org
END:VEVENT
BEGIN:VEVENT
DTSTART;TZID=America/New_York:20250513T150000
DTEND;TZID=America/New_York:20250513T160000
DTSTAMP:20260424T114032
CREATED:20250425T144934Z
LAST-MODIFIED:20250514T164717Z
UID:10000402-1747148400-1747152000@ruralhome.org
SUMMARY:NMTCs for Affordable Homeownership - May 13
DESCRIPTION:Learn about the New Markets Tax Credits (NMTC) program and using NMTCs for Affordable Homeownership Projects.\nPlease join us to learn more about NMTCs for homeownership and HAC’s planned 2026 NMTCs program.\nWe are hosting an informational webinar where you can learn all you need to know about NMTC eligibility\, the benefit to your organization and your clients\, compliance\, and other requirements. Register below to join us on May 13th. \nCan’t join us on May 13th? We are hosting the same webinar on May 7th – Register Here. \nWebinar Materials\nPresentation | One-Pager | Recording \n\n\n\n 
URL:http://ruralhome.org/event/nmtcs-for-affordable-homeownership-may-13/
CATEGORIES:Online Training
ATTACH;FMTTYPE=image/jpeg:http://ruralhome.org/wp-content/uploads/2025/04/NMTC-header.jpg
ORGANIZER;CN="Housing Assistance Council":MAILTO:registration@ruralhome.org
END:VEVENT
BEGIN:VEVENT
DTSTART;TZID=America/New_York:20250528T140000
DTEND;TZID=America/New_York:20250528T150000
DTSTAMP:20260424T114032
CREATED:20250520T153536Z
LAST-MODIFIED:20250529T144451Z
UID:10000403-1748440800-1748444400@ruralhome.org
SUMMARY:Learn More About Rural Data Central
DESCRIPTION:The Housing Assistance Council (HAC) invites you to join us for a webinar introducing Rural Data Central\, a new data platform that helps communities access the data they need to plan\, fund\, and advocate for local solutions. \nRural Data Central brings together more than 275 million data points covering a wide array of demographic\, social\, economic\, housing and mortgage issues and trends. Built with rural communities in mind\, the platform allows users to access data across numerous geographies and years. \nDuring this session\, we will present: \n\nHow to create a Rural Data Central account and run a data query\nWhat data are included and how to interpret them\nWhere to find help\, guides\, and updates\nReal-world examples of how RDC can support your work\nEnhanced and special features created for rural communities and users.\n\nWhether you are writing a grant proposal\, analyzing housing conditions\, or exploring local needs\, this webinar will help you make the most of Rural Data Central. \nRecording Posted\n\n 
URL:http://ruralhome.org/event/learn-more-about-rural-data-central/
CATEGORIES:Online Training
ATTACH;FMTTYPE=image/jpeg:http://ruralhome.org/wp-content/uploads/2025/04/NMTC-header.jpg
ORGANIZER;CN="Housing Assistance Council":MAILTO:registration@ruralhome.org
END:VEVENT
END:VCALENDAR