BEGIN:VCALENDAR
PRODID:-//Soapbox Engage//Events iCal//EN
VERSION:2.0
METHOD:PUBLISH
BEGIN:VEVENT
DTSTART:20150408T180000Z
DTEND:20150408T190000Z
DTSTAMP:20210424T121224
DESCRIPTION:Materials Posted  Webinar Recording | Power Point Presentation&nbsp;| Part B  All homes permitted after January 1, 2012 seeking ENERGY STAR Version 3.0 rating must meet ENERGY STAR Version 3.0 standards.&nbsp; Verification partners, including HERS raters and Field Inspectors, must complete ENERGY STAR Version 3 Rater Training through an Accredited Training Provider in order to service and/or inspect homes that seek ENERGY STAR Version 3.0 rating.&nbsp; There are two paths to certify a home to earn the ENERGY STAR. The Prescriptive Path is based on a predefined package of improvements, while the Performance Path is based on a customized package of upgrades. The National Program Requirements define the core energy efficiency specifications for both the Prescriptive and Performance Paths.&nbsp;\n\nFor details, click here: http://ruralhome.org/index.php?option=com_events&view=event&id=50
SUMMARY:A Practitioner’s Guide to Energy Star 3.0: Thermal Enclosure System Rater Checklist (Part A)
ORGANIZER;CN=Housing Assistance Council:MAILTO:ruralhome@picnet.net
UID:50-20150408T140000@ruralhome.nonprofitsoapbox.com
SEQUENCE:0
END:VEVENT
END:VCALENDAR
