BEGIN:VCALENDAR
PRODID:-//Soapbox Engage//Events iCal//EN
VERSION:2.0
METHOD:PUBLISH
BEGIN:VEVENT
DTSTART:20180207T190000Z
DTEND:20180207T200000Z
DTSTAMP:20210424T121013
DESCRIPTION:Materials Posted  Power Point Presentation | Recording  Join the Housing Assistance Council on February 7, 2018 for the second of three webinars focused on financing farm labor housing. Part 1 | Part 3\n\nFor details, click here: http://ruralhome.org/index.php?option=com_events&view=event&id=119
SUMMARY:Financing Farm Labor Housing with USDA Section 514/516 Funding - Part II - Final Application Processing and Closing
ORGANIZER;CN=Housing Assistance Council:MAILTO:ruralhome@picnet.net
UID:119-20180207T140000@ruralhome.nonprofitsoapbox.com
SEQUENCE:0
END:VEVENT
END:VCALENDAR
